BEGIN:VCALENDAR
VERSION:2.0
PRODID:-//neffafoundation.org//NONSGML kigkonsult.se iCalcreator 2.30.10//
CALSCALE:GREGORIAN
METHOD:PUBLISH
UID:1ebcdea2-b354-4050-a044-55a814d141a0
X-WR-CALDESC:Join the Nebraska FFA Foundation staff and volunteers for a on
 e-hour inspirational Mission: True Blue. The presentation is designed to g
 ive you a greater understanding of the work the Nebraska FFA Foundation do
 es to support agricultural education students and FFA members across the s
 tate. This program will provide you with a virtual tour of the Nebraska FF
 A Foundation and gives you the opportunity to hear true stories of the wor
 k we’ve done. You won't be asked for money\, but will receive a phone call
  for your feedback from the event.
X-WR-RELCALID:52ef934eb4b884643e2d09b5176b038d
X-WR-TIMEZONE:America/Chicago
BEGIN:VTIMEZONE
TZID:America/Chicago
BEGIN:STANDARD
TZNAME:CST
DTSTART:20181104T020000
TZOFFSETFROM:-0500
TZOFFSETTO:-0600
RDATE:20191103T020000
RDATE:20201101T020000
END:STANDARD
BEGIN:DAYLIGHT
TZNAME:CDT
DTSTART:20190310T020000
TZOFFSETFROM:-0600
TZOFFSETTO:-0500
RDATE:20200308T020000
END:DAYLIGHT
END:VTIMEZONE
BEGIN:VEVENT
UID:fa072740-d209-47e2-8b3c-73ae7cb832ac
DTSTAMP:20260420T211540Z
DESCRIPTION:Join the Nebraska FFA Foundation staff and volunteers for a one
 -hour inspirational Mission: True Blue. The presentation is designed to gi
 ve you a greater understanding of the work the Nebraska FFA Foundation doe
 s to support agricultural education students and FFA members across the st
 ate. This program will provide you with a virtual tour of the Nebraska FFA
  Foundation and gives you the opportunity to hear true stories of the work
  we’ve done. You won't be asked for money\, but will receive a phone call 
 for your feedback from the event.
DTSTART;TZID=America/Chicago:20190904T163000
DTEND;TZID=America/Chicago:20190904T173000
LOCATION:The Career Academy\, 8800 O Street\, Lincoln\, NE 68522
SUMMARY:Mission: True Blue
END:VEVENT
END:VCALENDAR
