BEGIN:VCALENDAR
VERSION:2.0
PRODID:-//neffafoundation.org//NONSGML kigkonsult.se iCalcreator 2.30.10//
CALSCALE:GREGORIAN
METHOD:PUBLISH
UID:63541e30-2a77-42b3-bea5-1a6e2c88a077
X-WR-CALDESC:
X-WR-RELCALID:1c31da10f5e0fa10f9fc964094d9e7c7
X-WR-TIMEZONE:America/Chicago
BEGIN:VTIMEZONE
TZID:America/Chicago
BEGIN:STANDARD
TZNAME:CST
DTSTART:20191103T020000
TZOFFSETFROM:-0500
TZOFFSETTO:-0600
RDATE:20201101T020000
END:STANDARD
BEGIN:DAYLIGHT
TZNAME:CDT
DTSTART:20190310T020000
TZOFFSETFROM:-0600
TZOFFSETTO:-0500
RDATE:20200308T020000
RDATE:20210314T020000
END:DAYLIGHT
END:VTIMEZONE
BEGIN:VEVENT
UID:e8b3e2ac-9034-417c-a6c9-7371155e2760
DTSTAMP:20260422T030337Z
DESCRIPTION:
DTSTART;TZID=America/Chicago:20191105T120000
DTEND;TZID=America/Chicago:20191105T130000
LOCATION:Country Club of Lincoln\, Lincoln\, NE
SUMMARY:True Blue Impact Fundraising Lunch
END:VEVENT
END:VCALENDAR
